BEGIN:VCALENDAR
VERSION:2.0
PRODID:-//Collier County Citizens Values Political Action Committee, LLC - ECPv6.15.18//NONSGML v1.0//EN
CALSCALE:GREGORIAN
METHOD:PUBLISH
X-ORIGINAL-URL:https://cccvpac.org
X-WR-CALDESC:Events for Collier County Citizens Values Political Action Committee, LLC
REFRESH-INTERVAL;VALUE=DURATION:PT1H
X-Robots-Tag:noindex
X-PUBLISHED-TTL:PT1H
BEGIN:VTIMEZONE
TZID:America/New_York
BEGIN:DAYLIGHT
TZOFFSETFROM:-0500
TZOFFSETTO:-0400
TZNAME:EDT
DTSTART:20220313T070000
END:DAYLIGHT
BEGIN:STANDARD
TZOFFSETFROM:-0400
TZOFFSETTO:-0500
TZNAME:EST
DTSTART:20221106T060000
END:STANDARD
BEGIN:DAYLIGHT
TZOFFSETFROM:-0500
TZOFFSETTO:-0400
TZNAME:EDT
DTSTART:20230312T070000
END:DAYLIGHT
BEGIN:STANDARD
TZOFFSETFROM:-0400
TZOFFSETTO:-0500
TZNAME:EST
DTSTART:20231105T060000
END:STANDARD
BEGIN:DAYLIGHT
TZOFFSETFROM:-0500
TZOFFSETTO:-0400
TZNAME:EDT
DTSTART:20240310T070000
END:DAYLIGHT
BEGIN:STANDARD
TZOFFSETFROM:-0400
TZOFFSETTO:-0500
TZNAME:EST
DTSTART:20241103T060000
END:STANDARD
END:VTIMEZONE
BEGIN:VEVENT
DTSTART;TZID=America/New_York:20230210T113000
DTEND;TZID=America/New_York:20230210T133000
DTSTAMP:20260419T131133
CREATED:20230117T142602Z
LAST-MODIFIED:20230117T142602Z
UID:2182-1676028600-1676035800@cccvpac.org
SUMMARY:WRC - John Bolton
DESCRIPTION:Ambassador John R. Bolton has served four presidents. Most recently he served as Assistant to the President for National Security Affairs from April 8\, 2018 until his resignation on September 10\, 2019. From January 2007 until April 2018\, he served as a Senior Fellow at American Enterprise Institute in Washington. \n  \nJohn R. Bolton was appointed as United States Representative to the United Nations under George W. Bush on August 1\, 2005 and served until his resignation in December 2006. Prior to his appointment\, Ambassador Bolton served as Under Secretary of State for Arms Control and International Security from May 2001 to May 2005. \n  \nAmbassador Bolton is the author of The Room Where it Happened\, published by Simon & Schuster (June 2020)\, Surrender is Not an Option: Defending America at the U.N. and Abroad\, published by Simon & Schuster (November 2007) and How Barack Obama is Endangering our National Sovereignty\, published by Encounter Books (April 2010). \n  \nHe appears daily on U.S. news stations as well as media outlets around the world. His op-ed articles appear in the Wall Street Journal\, Washington Post\, National Review\, NY Post\, Daily Telegraph and others\, \n  \nAmbassador Bolton was born in Baltimore\, Maryland. He graduated with a Bachelor of Arts degree\, summa cum laude\, Phi Beta Kappa\, from Yale College in 1970\, and received his Juris Doctor from Yale Law School in 1974. He currently resides in Maryland with his wife\, Gretchen. He has one daughter. \n 
URL:https://cccvpac.org/event/wrc-john-bolton/
LOCATION:Naples Hilton\, 5111 Tamiami Trail North\, Naples\, FL\, 34103
CATEGORIES:Republican Club Events
END:VEVENT
END:VCALENDAR