BEGIN:VCALENDAR
VERSION:2.0
PRODID:-//Collier County Citizens Values Political Action Committee, LLC - ECPv6.15.18//NONSGML v1.0//EN
CALSCALE:GREGORIAN
METHOD:PUBLISH
X-WR-CALNAME:Collier County Citizens Values Political Action Committee, LLC
X-ORIGINAL-URL:https://cccvpac.org
X-WR-CALDESC:Events for Collier County Citizens Values Political Action Committee, LLC
REFRESH-INTERVAL;VALUE=DURATION:PT1H
X-Robots-Tag:noindex
X-PUBLISHED-TTL:PT1H
BEGIN:VTIMEZONE
TZID:America/New_York
BEGIN:DAYLIGHT
TZOFFSETFROM:-0500
TZOFFSETTO:-0400
TZNAME:EDT
DTSTART:20220313T070000
END:DAYLIGHT
BEGIN:STANDARD
TZOFFSETFROM:-0400
TZOFFSETTO:-0500
TZNAME:EST
DTSTART:20221106T060000
END:STANDARD
BEGIN:DAYLIGHT
TZOFFSETFROM:-0500
TZOFFSETTO:-0400
TZNAME:EDT
DTSTART:20230312T070000
END:DAYLIGHT
BEGIN:STANDARD
TZOFFSETFROM:-0400
TZOFFSETTO:-0500
TZNAME:EST
DTSTART:20231105T060000
END:STANDARD
BEGIN:DAYLIGHT
TZOFFSETFROM:-0500
TZOFFSETTO:-0400
TZNAME:EDT
DTSTART:20240310T070000
END:DAYLIGHT
BEGIN:STANDARD
TZOFFSETFROM:-0400
TZOFFSETTO:-0500
TZNAME:EST
DTSTART:20241103T060000
END:STANDARD
END:VTIMEZONE
BEGIN:VEVENT
DTSTART;TZID=America/New_York:20230215T170000
DTEND;TZID=America/New_York:20230215T190000
DTSTAMP:20260419T130933
CREATED:20230206T191721Z
LAST-MODIFIED:20230206T191747Z
UID:2199-1676480400-1676487600@cccvpac.org
SUMMARY:RWSFF - Women\, Wine and Wisdom
DESCRIPTION:Weds. Feb. 15 5:00 PM W-3 Women Wine & Wisdom- Join us for Conversation and Wisdom! New meeting location CAVO Lounge 9108 Strada Pl. Naples- At Mercato. $10.00 Cash-Appetizers provided- Cash Bar for All Beverages. RSVP: email: speedyrsvp@gmail.com or call 239-431-5224 \nParking in the Garage and an easy walk to CAVO. Men are always Welcome to join the Conversation!
URL:https://cccvpac.org/event/rwsff-women-wine-and-wisdom/
LOCATION:Cavo Restaurant and Lounge\, 9108 Strada Pl.\, Naples\, FL\, 34108
CATEGORIES:Republican Club Events
END:VEVENT
BEGIN:VEVENT
DTSTART;TZID=America/New_York:20230215T170000
DTEND;TZID=America/New_York:20230215T190000
DTSTAMP:20260419T130933
CREATED:20230210T194711Z
LAST-MODIFIED:20230210T194711Z
UID:2211-1676480400-1676487600@cccvpac.org
SUMMARY:RWSFF - W-3 Women Wine & Wisdom @ Cavo Lounge
DESCRIPTION:Please join RWSFF for W-3 at our new location\nCAVO Restaurant & Lounge 9108 Strada Pl #14120\, Naples\, 34108-Located in Mercato. \nExcellent Selection of Appetizers will be provided and you can enjoy a great selection of beverages- Cash Bar for all beverages . \nWomen have Wisdom- an evening of discussion; RWSFF will stay laser focused on K-12 Education and\nour Collier County School Board and the issues regarding the Students! We support our Veterans- get involved! \nMen are always welcome to join the conversation. \nRWSFF Members & Guests $10.00 Cash at the door.\nRSVP Required for accurate count: speedyrsvp@gmail.com or call: 239-431-5224
URL:https://cccvpac.org/event/rwsff-w-3-women-wine-wisdom-cavo-lounge/
LOCATION:Cavo Restaurant and Lounge\, 9108 Strada Pl.\, Naples\, FL\, 34108
CATEGORIES:Republican Club Events
END:VEVENT
END:VCALENDAR