BEGIN:VCALENDAR
VERSION:2.0
PRODID:-//Collier County Citizens Values Political Action Committee, LLC - ECPv6.15.18//NONSGML v1.0//EN
CALSCALE:GREGORIAN
METHOD:PUBLISH
X-ORIGINAL-URL:https://cccvpac.org
X-WR-CALDESC:Events for Collier County Citizens Values Political Action Committee, LLC
REFRESH-INTERVAL;VALUE=DURATION:PT1H
X-Robots-Tag:noindex
X-PUBLISHED-TTL:PT1H
BEGIN:VTIMEZONE
TZID:America/New_York
BEGIN:DAYLIGHT
TZOFFSETFROM:-0500
TZOFFSETTO:-0400
TZNAME:EDT
DTSTART:20220313T070000
END:DAYLIGHT
BEGIN:STANDARD
TZOFFSETFROM:-0400
TZOFFSETTO:-0500
TZNAME:EST
DTSTART:20221106T060000
END:STANDARD
BEGIN:DAYLIGHT
TZOFFSETFROM:-0500
TZOFFSETTO:-0400
TZNAME:EDT
DTSTART:20230312T070000
END:DAYLIGHT
BEGIN:STANDARD
TZOFFSETFROM:-0400
TZOFFSETTO:-0500
TZNAME:EST
DTSTART:20231105T060000
END:STANDARD
BEGIN:DAYLIGHT
TZOFFSETFROM:-0500
TZOFFSETTO:-0400
TZNAME:EDT
DTSTART:20240310T070000
END:DAYLIGHT
BEGIN:STANDARD
TZOFFSETFROM:-0400
TZOFFSETTO:-0500
TZNAME:EST
DTSTART:20241103T060000
END:STANDARD
END:VTIMEZONE
BEGIN:VEVENT
DTSTART;TZID=America/New_York:20230216T173000
DTEND;TZID=America/New_York:20230216T200000
DTSTAMP:20260419T130423
CREATED:20230206T191523Z
LAST-MODIFIED:20230206T191523Z
UID:2196-1676568600-1676577600@cccvpac.org
SUMMARY:Naples Republican Club - RECEPTION & DINNER - Gov. Christopher T. Sununu
DESCRIPTION:Click here to register \n  \nGovernor Christopher T. Sununu is currently serving his 4th term as the 82nd Governor of the State of New Hampshire. Under his leadership\, New Hampshire has been ranked #1 for personal freedoms by the Cato Institute. Under the Governor’s inititiative\, New Hampshire has become a national model for prevention and treatment of substance disorders and in 2021 was one of 4 states that reduced drug overdose deaths. Governor Sununu served as a member of the NH Executive Council for 8 years prior to being elected as Governor. He is an environmental engineer and spent ten years cleaning up hazardous waste sites across the country. Price includes a photo with the Governor.
URL:https://cccvpac.org/event/naples-republican-club-reception-dinner-gov-christopher-t-sununu/
LOCATION:Kensington Country Club\, 2700 Pine Ridge Road\, Naples\, FL\, 34110
CATEGORIES:Republican Club Events
ORGANIZER;CN="Naples Reagan Club":MAILTO:naplesrepublicanclub@gmail.com
END:VEVENT
END:VCALENDAR