BEGIN:VCALENDAR
VERSION:2.0
PRODID:-//Collier County Citizens Values Political Action Committee, LLC - ECPv6.15.18//NONSGML v1.0//EN
CALSCALE:GREGORIAN
METHOD:PUBLISH
X-ORIGINAL-URL:https://cccvpac.org
X-WR-CALDESC:Events for Collier County Citizens Values Political Action Committee, LLC
REFRESH-INTERVAL;VALUE=DURATION:PT1H
X-Robots-Tag:noindex
X-PUBLISHED-TTL:PT1H
BEGIN:VTIMEZONE
TZID:America/New_York
BEGIN:DAYLIGHT
TZOFFSETFROM:-0500
TZOFFSETTO:-0400
TZNAME:EDT
DTSTART:20220313T070000
END:DAYLIGHT
BEGIN:STANDARD
TZOFFSETFROM:-0400
TZOFFSETTO:-0500
TZNAME:EST
DTSTART:20221106T060000
END:STANDARD
BEGIN:DAYLIGHT
TZOFFSETFROM:-0500
TZOFFSETTO:-0400
TZNAME:EDT
DTSTART:20230312T070000
END:DAYLIGHT
BEGIN:STANDARD
TZOFFSETFROM:-0400
TZOFFSETTO:-0500
TZNAME:EST
DTSTART:20231105T060000
END:STANDARD
BEGIN:DAYLIGHT
TZOFFSETFROM:-0500
TZOFFSETTO:-0400
TZNAME:EDT
DTSTART:20240310T070000
END:DAYLIGHT
BEGIN:STANDARD
TZOFFSETFROM:-0400
TZOFFSETTO:-0500
TZNAME:EST
DTSTART:20241103T060000
END:STANDARD
END:VTIMEZONE
BEGIN:VEVENT
DTSTART;TZID=America/New_York:20230303T110000
DTEND;TZID=America/New_York:20230303T130000
DTSTAMP:20260419T130407
CREATED:20230206T191138Z
LAST-MODIFIED:20230206T191138Z
UID:2193-1677841200-1677848400@cccvpac.org
SUMMARY:Republican Men's Club - March Luncheon – Saving America: How “Space” can reestablish American values and preeminence – Steve Kwast
DESCRIPTION:Steve Kwast \nSaving America: How “Space” can reestablish American values and preeminence as the shining beacon on the hill for the rest of the world. If we want to help others\, we must save America first. \n\nHow the space economy will deliver unlimited\, affordable information\, energy\, and resources to any location on the planet.\nHow America’s enemies are chasing this advantage as a weapon against us.\nHow you can personally help.\n\nSpeaker – Steve Kwast\nYou heard Steve Kwast at our 2021 Salute to Veterans. Insightful\, educational and dynamic. We have him back to speak on progress made and threats to come. An outstanding speaker who not only identifies the problem/challenges but identifies solutions. \n Steve Kwast Bio: \nSteve Kwast is the Chief Executive Officer of Skycorp Incorporated\, a company pioneering future sustainable space construction and economic development. \nBorn in California\, he was raised in a remote African tribe\, moved back to the US\, and graduated from the United States Air Force Academy in 1986 with a degree in Astronautical Engineering. His military career spanned every major combat operation\, from a young Lieutenant Fighter Pilot in Desert Storm\, culminating as the Commanding Air Force General at Bagram Air Base In Afghanistan. He subsequently rose to the highest levels of command in the United States Air Force. \nHe has a Master’s degree from Harvard’s Kennedy School of Government in Public Policy and has been a University President and the President of the number one startup company in America. He is married to the former Joni McDonough and they have two children. \nPrice: $75 Members\, $90 Non-Member \nClick Here to Purchase Member Tickets\nClick Here to Purchase Non-Member Tickets
URL:https://cccvpac.org/event/republican-mens-club-march-luncheon-saving-america-how-space-can-reestablish-american-values-and-preeminence-steve-kwast/
LOCATION:Naples Hilton\, 5111 Tamiami Trail North\, Naples\, FL\, 34103
CATEGORIES:Republican Club Events
ORGANIZER;CN="The Right Men's Club of Collier County":MAILTO:info@mensclubcc.org
END:VEVENT
END:VCALENDAR