BEGIN:VCALENDAR
VERSION:2.0
PRODID:-//Collier County Citizens Values Political Action Committee, LLC - ECPv6.15.18//NONSGML v1.0//EN
CALSCALE:GREGORIAN
METHOD:PUBLISH
X-WR-CALNAME:Collier County Citizens Values Political Action Committee, LLC
X-ORIGINAL-URL:https://cccvpac.org
X-WR-CALDESC:Events for Collier County Citizens Values Political Action Committee, LLC
REFRESH-INTERVAL;VALUE=DURATION:PT1H
X-Robots-Tag:noindex
X-PUBLISHED-TTL:PT1H
BEGIN:VTIMEZONE
TZID:America/New_York
BEGIN:DAYLIGHT
TZOFFSETFROM:-0500
TZOFFSETTO:-0400
TZNAME:EDT
DTSTART:20220313T070000
END:DAYLIGHT
BEGIN:STANDARD
TZOFFSETFROM:-0400
TZOFFSETTO:-0500
TZNAME:EST
DTSTART:20221106T060000
END:STANDARD
BEGIN:DAYLIGHT
TZOFFSETFROM:-0500
TZOFFSETTO:-0400
TZNAME:EDT
DTSTART:20230312T070000
END:DAYLIGHT
BEGIN:STANDARD
TZOFFSETFROM:-0400
TZOFFSETTO:-0500
TZNAME:EST
DTSTART:20231105T060000
END:STANDARD
BEGIN:DAYLIGHT
TZOFFSETFROM:-0500
TZOFFSETTO:-0400
TZNAME:EDT
DTSTART:20240310T070000
END:DAYLIGHT
BEGIN:STANDARD
TZOFFSETFROM:-0400
TZOFFSETTO:-0500
TZNAME:EST
DTSTART:20241103T060000
END:STANDARD
END:VTIMEZONE
BEGIN:VEVENT
DTSTART;TZID=America/New_York:20230321T170000
DTEND;TZID=America/New_York:20230321T193000
DTSTAMP:20260419T141956
CREATED:20230206T192259Z
LAST-MODIFIED:20230304T202635Z
UID:2208-1679418000-1679427000@cccvpac.org
SUMMARY:Naples Republican Club - Conservative Cocktails
DESCRIPTION:Tues. Mar. 21 5:00 PM Naples Republican Club- Conservative Cocktails- Speaker: The Honorable Jason Lewis ” Meet and Greet” followed by presentation with Q&A Buffet with heavy appetizers included $30 members/$45 non-members RSVP: Registration Southern Style Kitchen 492 Bayfront Place\, Naples 34102
URL:https://cccvpac.org/event/naples-republican-club-conservative-cocktails-2/
LOCATION:Southern Style Kitchen\, 492 Bayfront Place\, Naples\, FL\, 34102
CATEGORIES:Republican Club Events
ORGANIZER;CN="Naples Reagan Club":MAILTO:naplesrepublicanclub@gmail.com
END:VEVENT
END:VCALENDAR