BEGIN:VCALENDAR
VERSION:2.0
PRODID:-//Collier County Citizens Values Political Action Committee, LLC - ECPv6.15.18//NONSGML v1.0//EN
CALSCALE:GREGORIAN
METHOD:PUBLISH
X-WR-CALNAME:Collier County Citizens Values Political Action Committee, LLC
X-ORIGINAL-URL:https://cccvpac.org
X-WR-CALDESC:Events for Collier County Citizens Values Political Action Committee, LLC
REFRESH-INTERVAL;VALUE=DURATION:PT1H
X-Robots-Tag:noindex
X-PUBLISHED-TTL:PT1H
BEGIN:VTIMEZONE
TZID:America/New_York
BEGIN:DAYLIGHT
TZOFFSETFROM:-0500
TZOFFSETTO:-0400
TZNAME:EDT
DTSTART:20220313T070000
END:DAYLIGHT
BEGIN:STANDARD
TZOFFSETFROM:-0400
TZOFFSETTO:-0500
TZNAME:EST
DTSTART:20221106T060000
END:STANDARD
BEGIN:DAYLIGHT
TZOFFSETFROM:-0500
TZOFFSETTO:-0400
TZNAME:EDT
DTSTART:20230312T070000
END:DAYLIGHT
BEGIN:STANDARD
TZOFFSETFROM:-0400
TZOFFSETTO:-0500
TZNAME:EST
DTSTART:20231105T060000
END:STANDARD
BEGIN:DAYLIGHT
TZOFFSETFROM:-0500
TZOFFSETTO:-0400
TZNAME:EDT
DTSTART:20240310T070000
END:DAYLIGHT
BEGIN:STANDARD
TZOFFSETFROM:-0400
TZOFFSETTO:-0500
TZNAME:EST
DTSTART:20241103T060000
END:STANDARD
END:VTIMEZONE
BEGIN:VEVENT
DTSTART;TZID=America/New_York:20230327T173000
DTEND;TZID=America/New_York:20230327T193000
DTSTAMP:20260419T141957
CREATED:20230303T141547Z
LAST-MODIFIED:20230303T142202Z
UID:2224-1679938200-1679945400@cccvpac.org
SUMMARY:Republican Club of South Collier - Eat Drink and Be Right
DESCRIPTION:Don’t wait\, get your tickets now to our March 27 and March 31 events\nMarch 27th\n• Eat\, Drink & Be Right meeting 5:30-7:30\n• RCSCC Board Elections 5:45 – (if you have an interest\, contact board@rcscc.us by March 10)\n• Bring your favorite wine to go with the excellent Italian dinner being served\n• Listen\, Learn and be amazed by our speakers presenting their efforts to life ready our kiids in Collier County.
URL:https://cccvpac.org/event/republican-club-of-south-collier-eat-drind-and-be-right/
LOCATION:Dolphin Point on  Isles of Capri\, 85 West Pelican Street\, Naples\, 34113\, Belarus
CATEGORIES:Republican Club Events
END:VEVENT
BEGIN:VEVENT
DTSTART;TZID=America/New_York:20230327T193000
DTEND;TZID=America/New_York:20230327T210000
DTSTAMP:20260419T141957
CREATED:20230314T212143Z
LAST-MODIFIED:20230314T212143Z
UID:2300-1679945400-1679950800@cccvpac.org
SUMMARY:Florida's Voice - Unfiltered
DESCRIPTION:
URL:https://cccvpac.org/event/floridas-voice-unfiltered/
LOCATION:South Street\, 8845 Founders Square Drive\, Naples\, Florida\, 34120
CATEGORIES:Republican Club Events
END:VEVENT
END:VCALENDAR