BEGIN:VCALENDAR
VERSION:2.0
PRODID:-//Collier County Citizens Values Political Action Committee, LLC - ECPv6.15.18//NONSGML v1.0//EN
CALSCALE:GREGORIAN
METHOD:PUBLISH
X-ORIGINAL-URL:https://cccvpac.org
X-WR-CALDESC:Events for Collier County Citizens Values Political Action Committee, LLC
REFRESH-INTERVAL;VALUE=DURATION:PT1H
X-Robots-Tag:noindex
X-PUBLISHED-TTL:PT1H
BEGIN:VTIMEZONE
TZID:America/New_York
BEGIN:DAYLIGHT
TZOFFSETFROM:-0500
TZOFFSETTO:-0400
TZNAME:EDT
DTSTART:20220313T070000
END:DAYLIGHT
BEGIN:STANDARD
TZOFFSETFROM:-0400
TZOFFSETTO:-0500
TZNAME:EST
DTSTART:20221106T060000
END:STANDARD
BEGIN:DAYLIGHT
TZOFFSETFROM:-0500
TZOFFSETTO:-0400
TZNAME:EDT
DTSTART:20230312T070000
END:DAYLIGHT
BEGIN:STANDARD
TZOFFSETFROM:-0400
TZOFFSETTO:-0500
TZNAME:EST
DTSTART:20231105T060000
END:STANDARD
BEGIN:DAYLIGHT
TZOFFSETFROM:-0500
TZOFFSETTO:-0400
TZNAME:EDT
DTSTART:20240310T070000
END:DAYLIGHT
BEGIN:STANDARD
TZOFFSETFROM:-0400
TZOFFSETTO:-0500
TZNAME:EST
DTSTART:20241103T060000
END:STANDARD
END:VTIMEZONE
BEGIN:VEVENT
DTSTART;TZID=America/New_York:20230330T113000
DTEND;TZID=America/New_York:20230330T140000
DTSTAMP:20260419T142251
CREATED:20230116T151228Z
LAST-MODIFIED:20230116T151344Z
UID:2176-1680175800-1680184800@cccvpac.org
SUMMARY:Pete Hegseth - Overcoming Obstacles
DESCRIPTION:General Tickets $300:\nIncludes lunch and presentation by Pete Hegseth\nVIP Tickets $500 (space is limited):\nIncludes invitation to a pre-lunch\, private VIP reception with Pete Hegseth\,\nthen lunch and presentation\nSponsorship opportunities are available.\nThe Ritz-Carlton\nNaples\, Tiburon\n2600 Tiburon Drive\,\nNaples\, FL 34109\nThursday\, March 30\, 2023\, 11:30am\nTICKETS ARE AVAILABLE ONLINE\nP A R K I N S O N A S S O C I A T I O N S W F L . O R G\nQuestions? Call (239) 417-3465\nTo register by mail\, return the below portion with payment to Parkinson’s Association of SWFL\,\n2575 Northbrooke Plaza Drive\, Building 300\, Suite#301\, Naples\, FL 34119\n($100 of the individual ticket price is tax deductible)\nNumber of tickets: # ____________________ @ 300 each Number of VIP tickets: # ____________________ @ 500 each\nI can not attend\, but I would like to support you with a donation of $___________________________\n“Seat with” Request: ____________________________________________________________________ Please complete if you are joining a group\nName of registrant: __________________________________________________________________________________________________________________\nStreet Address associated with Credit Card: ________________________________________________________________________________________\nCity: _____________________________________________________________ State: __________________ Zip: _______________________________________\nEmail(s) of registrant(s): _____________________________________________________________________________________________________________\nPhone(s) (________________) __________________________________________ (________________) ________________________________________\nPaying by Credit Card: Name on Card: _______________________________________________________________________________________________\nAmount to charge: $__________________ Card#_________________________________________________________________________________________\nExpiration: ____________________CVV:_________________ Telephone: _____________________________________________________________________\nIf paying by check\, please make it payable to Parkinson’s Association of Southwest Florida\, Inc.\nPARKINSONASSOCIATIONSWFL.ORG (239) 417-3465
URL:https://cccvpac.org/event/pete-hegseth-overcoming-obstacles/
LOCATION:Ritz-Carlton Golf Resort Hotel\, 2600 Tiburon Drive\, Naples\, FL\, 34109
CATEGORIES:Republican Club Events
END:VEVENT
END:VCALENDAR