BEGIN:VCALENDAR
VERSION:2.0
PRODID:-//Collier County Citizens Values Political Action Committee, LLC - ECPv6.15.18//NONSGML v1.0//EN
CALSCALE:GREGORIAN
METHOD:PUBLISH
X-ORIGINAL-URL:https://cccvpac.org
X-WR-CALDESC:Events for Collier County Citizens Values Political Action Committee, LLC
REFRESH-INTERVAL;VALUE=DURATION:PT1H
X-Robots-Tag:noindex
X-PUBLISHED-TTL:PT1H
BEGIN:VTIMEZONE
TZID:America/New_York
BEGIN:DAYLIGHT
TZOFFSETFROM:-0500
TZOFFSETTO:-0400
TZNAME:EDT
DTSTART:20220313T070000
END:DAYLIGHT
BEGIN:STANDARD
TZOFFSETFROM:-0400
TZOFFSETTO:-0500
TZNAME:EST
DTSTART:20221106T060000
END:STANDARD
BEGIN:DAYLIGHT
TZOFFSETFROM:-0500
TZOFFSETTO:-0400
TZNAME:EDT
DTSTART:20230312T070000
END:DAYLIGHT
BEGIN:STANDARD
TZOFFSETFROM:-0400
TZOFFSETTO:-0500
TZNAME:EST
DTSTART:20231105T060000
END:STANDARD
BEGIN:DAYLIGHT
TZOFFSETFROM:-0500
TZOFFSETTO:-0400
TZNAME:EDT
DTSTART:20240310T070000
END:DAYLIGHT
BEGIN:STANDARD
TZOFFSETFROM:-0400
TZOFFSETTO:-0500
TZNAME:EST
DTSTART:20241103T060000
END:STANDARD
END:VTIMEZONE
BEGIN:VEVENT
DTSTART;TZID=America/New_York:20230405T113000
DTEND;TZID=America/New_York:20230405T133000
DTSTAMP:20260419T155150
CREATED:20230312T154809Z
LAST-MODIFIED:20230324T015024Z
UID:2282-1680694200-1680701400@cccvpac.org
SUMMARY:RWSFF - Monthly Luncheon
DESCRIPTION:Wednesday April 5\, 2023 \nFeaturing \nMichael Maibach \nDistinguished Fellow on American Federalism \nSave Our States \n\n\n\n\n\n\n\nDear RWSFF Members & Friends\,  \nPlease join us at our April RWSFF Luncheon Meeting –Wednesday Apr. 5\, Hilton Naples 5111 Tamiami TR. N. Naples\, 34103. \nRWSFF is pleased to announce our April Guest Speaker is Michael Maibach\, Distinguished Fellow on American Federalism- Save Our States. Michael is an excellent guest lecturer to many groups around the country. We are so fortunate that he calls Naples his seasonal residence. \nMichael will engage all of us with his speech: \n“George Washington’s Farewell Address:  \n7 Warnings for America” \nYou don’t want to miss this meeting. Join us to be forewarned. Join us to find out what we can do to prevent these warnings for America from becoming reality! \nDoors will open at 11:15 AM; You must check in either the \nTable-Paid in Advance or the Table-Paying by Cash or Check. \n  \nWe encourage payment online to facilitate registration. \nRSVP is required to accommodate all attending. \n  \nRSVP: Click Here to make your reservation; you’ll have the option to pay online or at the door-with cash or check. You may also email: speedyrsvp@gmail.com or call 239-431-5224. \n  \nLunch: $45.00 payable online or pay at the door cash or check. You have the option to select from 3 meal choices: Normal (Salmon Entre); Vegan or Vegetarian. A reservation made is a reservation paid unless 48 hour notice is given.\n\n\n\n\n\n\n\nWeds. Apr. 5 11:30- 1:30 PM Republican Women of SWFL Federated Guest Speaker:  5111 Tamiami Tr. N Naples\, 34103 RSVP & Sign Up Click Here or email: speedyrsvp@gmail.com or call 239-431-5224
URL:https://cccvpac.org/event/rwsff-monthly-luncheon-2/
LOCATION:Naples Hilton\, 5111 Tamiami Trail North\, Naples\, FL\, 34103
CATEGORIES:Republican Club Events
END:VEVENT
END:VCALENDAR