BEGIN:VCALENDAR
VERSION:2.0
PRODID:-//Collier County Citizens Values Political Action Committee, LLC - ECPv6.15.18//NONSGML v1.0//EN
CALSCALE:GREGORIAN
METHOD:PUBLISH
X-WR-CALNAME:Collier County Citizens Values Political Action Committee, LLC
X-ORIGINAL-URL:https://cccvpac.org
X-WR-CALDESC:Events for Collier County Citizens Values Political Action Committee, LLC
REFRESH-INTERVAL;VALUE=DURATION:PT1H
X-Robots-Tag:noindex
X-PUBLISHED-TTL:PT1H
BEGIN:VTIMEZONE
TZID:America/New_York
BEGIN:DAYLIGHT
TZOFFSETFROM:-0500
TZOFFSETTO:-0400
TZNAME:EDT
DTSTART:20220313T070000
END:DAYLIGHT
BEGIN:STANDARD
TZOFFSETFROM:-0400
TZOFFSETTO:-0500
TZNAME:EST
DTSTART:20221106T060000
END:STANDARD
BEGIN:DAYLIGHT
TZOFFSETFROM:-0500
TZOFFSETTO:-0400
TZNAME:EDT
DTSTART:20230312T070000
END:DAYLIGHT
BEGIN:STANDARD
TZOFFSETFROM:-0400
TZOFFSETTO:-0500
TZNAME:EST
DTSTART:20231105T060000
END:STANDARD
BEGIN:DAYLIGHT
TZOFFSETFROM:-0500
TZOFFSETTO:-0400
TZNAME:EDT
DTSTART:20240310T070000
END:DAYLIGHT
BEGIN:STANDARD
TZOFFSETFROM:-0400
TZOFFSETTO:-0500
TZNAME:EST
DTSTART:20241103T060000
END:STANDARD
END:VTIMEZONE
BEGIN:VEVENT
DTSTART;TZID=America/New_York:20230503T113000
DTEND;TZID=America/New_York:20230503T133000
DTSTAMP:20260419T170657
CREATED:20230424T134343Z
LAST-MODIFIED:20230424T134343Z
UID:2350-1683113400-1683120600@cccvpac.org
SUMMARY:RWSFF - Pastor Robert Baxter
DESCRIPTION:Dear RWSFF Members & Friends\,  \nPlease join us at our May RWSFF Luncheon Meeting –Wednesday May 3\, Hilton Naples 5111 Tamiami TR. N. Naples\, 34103. \nRWSFF is pleased to announce our May Guest Speaker is Pastor Robert Baxter. Pastor Robert and his wife Kathryn Baxter first arrived in Paris as Missionaries in Jan. of 1988. They founded and served as the Senior leaders of the Paris based church Le Bon Berger (The Good Shepard) in Jan. 1991. Pastor Robert will share a message to untangle the world of Politics today. Pastor Robert is currently in transition from his active pastoral ministry to devote all his energy to strengthening and training the next generation of spiritual leaders around the world. \nAdded special Speaker will be Jean-Marc Katzeff- Faith Leaders Alliance. \nDoors will open at 11:15 AM; You must check in either the \nTable-Paid in Advance or the Table-Paying by Cash or Check. \n  \nWe encourage payment online to facilitate registration. \nRSVP is required to accommodate all attending. \n  \nRSVP: Click Here to make your reservation; you’ll have the option to pay online or at the door-with cash or check. You may also email: speedyrsvp@gmail.com or call 239-431-5224. \n  \nLunch: $45.00 payable online or pay at the door cash or check. You have the option to select from 3 meal choices: Normal (Salmon Entre); Vegan or Vegetarian. A reservation made is a reservation paid unless 48 hour notice is given.\n\n\n\n\n\n\n\n  \n\n\n\n\n\n\n\nBest  \nDiane Van Parys \nRWSFF President
URL:https://cccvpac.org/event/rwsff-pastor-robert-baxter/
LOCATION:Naples Hilton\, 5111 Tamiami Trail North\, Naples\, FL\, 34103
CATEGORIES:Republican Club Events
END:VEVENT
END:VCALENDAR