BEGIN:VCALENDAR
VERSION:2.0
PRODID:-//Collier County Citizens Values Political Action Committee, LLC - ECPv6.15.18//NONSGML v1.0//EN
CALSCALE:GREGORIAN
METHOD:PUBLISH
X-WR-CALNAME:Collier County Citizens Values Political Action Committee, LLC
X-ORIGINAL-URL:https://cccvpac.org
X-WR-CALDESC:Events for Collier County Citizens Values Political Action Committee, LLC
REFRESH-INTERVAL;VALUE=DURATION:PT1H
X-Robots-Tag:noindex
X-PUBLISHED-TTL:PT1H
BEGIN:VTIMEZONE
TZID:UTC
BEGIN:STANDARD
TZOFFSETFROM:+0000
TZOFFSETTO:+0000
TZNAME:UTC
DTSTART:20220101T000000
END:STANDARD
END:VTIMEZONE
BEGIN:VEVENT
DTSTART;TZID=UTC:20230529T080000
DTEND;TZID=UTC:20230529T170000
DTSTAMP:20260419T170605
CREATED:20230509T135443Z
LAST-MODIFIED:20230510T175443Z
UID:2386-1685347200-1685379600@cccvpac.org
SUMMARY:Memorial Day Events
DESCRIPTION:Mon. May 29 9:45 AM Earl Hodges Memorial Day Picnic presented by Collier County Veterans Council \n9:45 am: Musical prelude by Pine Ridge Middle School under the baton of Music Director Kelly Parker \nHosted by Hodges at Naples Memorial Gardens  \n525 111th Ave N\, Naples 34108 \nService and Program begins at 10:00 AM to be followed by Cook Brothers Barbecue \n(Scouts have been provided with Buddy Poppies for distribution) \n  \nMon. May 29 8:00 AM Memorial Day Celebration Paradise Coast Park/Collier Sports Complex 3940 City Gate Naples VFW Post 7721 sponsor for this event. \nSeed to Table – 9am-3pm – Auxiliary will be placed at exit area
URL:https://cccvpac.org/event/memorial-day-events/
LOCATION:Naples Memorial Gardens\, 525 111th Ave N\, Naples\, FL\, 34108
CATEGORIES:Republican Club Events
END:VEVENT
END:VCALENDAR