BEGIN:VCALENDAR
VERSION:2.0
PRODID:-//Collier County Citizens Values Political Action Committee, LLC - ECPv6.15.18//NONSGML v1.0//EN
CALSCALE:GREGORIAN
METHOD:PUBLISH
X-WR-CALNAME:Collier County Citizens Values Political Action Committee, LLC
X-ORIGINAL-URL:https://cccvpac.org
X-WR-CALDESC:Events for Collier County Citizens Values Political Action Committee, LLC
REFRESH-INTERVAL;VALUE=DURATION:PT1H
X-Robots-Tag:noindex
X-PUBLISHED-TTL:PT1H
BEGIN:VTIMEZONE
TZID:America/New_York
BEGIN:DAYLIGHT
TZOFFSETFROM:-0500
TZOFFSETTO:-0400
TZNAME:EDT
DTSTART:20240310T070000
END:DAYLIGHT
BEGIN:STANDARD
TZOFFSETFROM:-0400
TZOFFSETTO:-0500
TZNAME:EST
DTSTART:20241103T060000
END:STANDARD
BEGIN:DAYLIGHT
TZOFFSETFROM:-0500
TZOFFSETTO:-0400
TZNAME:EDT
DTSTART:20250309T070000
END:DAYLIGHT
BEGIN:STANDARD
TZOFFSETFROM:-0400
TZOFFSETTO:-0500
TZNAME:EST
DTSTART:20251102T060000
END:STANDARD
BEGIN:DAYLIGHT
TZOFFSETFROM:-0500
TZOFFSETTO:-0400
TZNAME:EDT
DTSTART:20260308T070000
END:DAYLIGHT
BEGIN:STANDARD
TZOFFSETFROM:-0400
TZOFFSETTO:-0500
TZNAME:EST
DTSTART:20261101T060000
END:STANDARD
END:VTIMEZONE
BEGIN:VEVENT
DTSTART;TZID=America/New_York:20250916T170000
DTEND;TZID=America/New_York:20250916T190000
DTSTAMP:20260420T095139
CREATED:20250820T001655Z
LAST-MODIFIED:20250820T001905Z
UID:3956-1758042000-1758049200@cccvpac.org
SUMMARY:NRC - Conservative Cocktails with State Attorney Amira Fox
DESCRIPTION:Time & Location\n\n\nSep 16\, 2025\, 5:00 PM – 7:00 PM \nTiburón Golf Club\, 2620 Tiburon Dr\, Naples\, FL 34109\, USA \n\n\nAbout the Event\n\n\n\n\nAMIRA FOX is the State Attorney for the 20th Judicial Circuit of Florida covering Charlotte\, Collier\, Glades\, Hendry and Lee counties. She graduated from American University in Washington D.C. in 1987 with degrees in International Studies and Economics and received her law degree from The George Washington University in 1990. Ms. Fox began her career as an Assistant State Attorney with the 20th Judicial Circuit in 1990. She worked in the misdemeanor\, juvenile and felony divisions of the State Attorney’s Office before becoming head of the Hendry and Glades office in 1998. In 1999\, she became the first female head of the Collier County office. She entered private practice in 2002\, and formed her own practice in 2004\, where she specialized in criminal defense and family law and was a Martindale-Hubbell AV Preeminent-rated lawyer. She rejoined the State Attorney’s Office in 2012 as Chief of the Homicide and Economic Crime Units and in 2015 she became Chief Assistant State Attorney overseeing the day to day legal and administrative functions of the office\, including the operation of grand juries throughout the circuit. \n In November 2018\, Ms. Fox was elected State Attorney\, becoming the third State Attorney\, and the first female State Attorney\, in the history of the Circuit. She was re-elected\, unopposed\, in 2022 for a term continuing through January 2027. She has prosecuted hundreds of cases including numerous first-degree murder death penalty cases. Ms. Fox serves as the Vice President of the Florida Prosecuting Attorneys Association. She also serves on the Supreme Court of Florida Criminal Court Steering Committee\, the Supreme Court of Florida Steering Committee on Problem Solving Courts\, the Florida Medical Examiners Commission\, and was recently appointed by Governor Ron DeSantis to the Sixth District Court of Appeals Judicial Nominating Commission where she is serving a four year term. She is the recipient of the GEM award for excellence in public service\, the Homeland Security Investigations outstanding partnership award\, the Woman of the Year award from the Lee Republican Women Cape Coral\, and the Legacy of Leadership award from the Conservative Leadership Caucus. \n State Attorney Fox is a member of the Fort Myers Rotary Club\, serves on the board of the Shelter for Abused Women and Children\, the board of The Foundation for Lee County Public Schools\, the board of the PACE Center for Girls and has been a Captain and Event Lead for Relay for Life. Amira’s husband Mike served with the Collier County Sheriff’s Office for 30 years and they have four children.
URL:https://cccvpac.org/event/nrc-conservative-cocktails/
LOCATION:Tiburon Golf Club\, 2620 Tiburon Drive\, Naples\, FL\, 34109
CATEGORIES:Republican Club Events
ORGANIZER;CN="Naples Reagan Club":MAILTO:naplesrepublicanclub@gmail.com
END:VEVENT
END:VCALENDAR