BEGIN:VCALENDAR
VERSION:2.0
PRODID:-//Collier County Citizens Values Political Action Committee, LLC - ECPv6.15.18//NONSGML v1.0//EN
CALSCALE:GREGORIAN
METHOD:PUBLISH
X-WR-CALNAME:Collier County Citizens Values Political Action Committee, LLC
X-ORIGINAL-URL:https://cccvpac.org
X-WR-CALDESC:Events for Collier County Citizens Values Political Action Committee, LLC
REFRESH-INTERVAL;VALUE=DURATION:PT1H
X-Robots-Tag:noindex
X-PUBLISHED-TTL:PT1H
BEGIN:VTIMEZONE
TZID:America/New_York
BEGIN:DAYLIGHT
TZOFFSETFROM:-0500
TZOFFSETTO:-0400
TZNAME:EDT
DTSTART:20220313T070000
END:DAYLIGHT
BEGIN:STANDARD
TZOFFSETFROM:-0400
TZOFFSETTO:-0500
TZNAME:EST
DTSTART:20221106T060000
END:STANDARD
BEGIN:DAYLIGHT
TZOFFSETFROM:-0500
TZOFFSETTO:-0400
TZNAME:EDT
DTSTART:20230312T070000
END:DAYLIGHT
BEGIN:STANDARD
TZOFFSETFROM:-0400
TZOFFSETTO:-0500
TZNAME:EST
DTSTART:20231105T060000
END:STANDARD
BEGIN:DAYLIGHT
TZOFFSETFROM:-0500
TZOFFSETTO:-0400
TZNAME:EDT
DTSTART:20240310T070000
END:DAYLIGHT
BEGIN:STANDARD
TZOFFSETFROM:-0400
TZOFFSETTO:-0500
TZNAME:EST
DTSTART:20241103T060000
END:STANDARD
END:VTIMEZONE
BEGIN:VTIMEZONE
TZID:UTC
BEGIN:STANDARD
TZOFFSETFROM:+0000
TZOFFSETTO:+0000
TZNAME:UTC
DTSTART:20220101T000000
END:STANDARD
END:VTIMEZONE
BEGIN:VEVENT
DTSTART;TZID=America/New_York:20230405T113000
DTEND;TZID=America/New_York:20230405T133000
DTSTAMP:20260419T141905
CREATED:20230312T154809Z
LAST-MODIFIED:20230324T015024Z
UID:2282-1680694200-1680701400@cccvpac.org
SUMMARY:RWSFF - Monthly Luncheon
DESCRIPTION:Wednesday April 5\, 2023 \nFeaturing \nMichael Maibach \nDistinguished Fellow on American Federalism \nSave Our States \n\n\n\n\n\n\n\nDear RWSFF Members & Friends\,  \nPlease join us at our April RWSFF Luncheon Meeting –Wednesday Apr. 5\, Hilton Naples 5111 Tamiami TR. N. Naples\, 34103. \nRWSFF is pleased to announce our April Guest Speaker is Michael Maibach\, Distinguished Fellow on American Federalism- Save Our States. Michael is an excellent guest lecturer to many groups around the country. We are so fortunate that he calls Naples his seasonal residence. \nMichael will engage all of us with his speech: \n“George Washington’s Farewell Address:  \n7 Warnings for America” \nYou don’t want to miss this meeting. Join us to be forewarned. Join us to find out what we can do to prevent these warnings for America from becoming reality! \nDoors will open at 11:15 AM; You must check in either the \nTable-Paid in Advance or the Table-Paying by Cash or Check. \n  \nWe encourage payment online to facilitate registration. \nRSVP is required to accommodate all attending. \n  \nRSVP: Click Here to make your reservation; you’ll have the option to pay online or at the door-with cash or check. You may also email: speedyrsvp@gmail.com or call 239-431-5224. \n  \nLunch: $45.00 payable online or pay at the door cash or check. You have the option to select from 3 meal choices: Normal (Salmon Entre); Vegan or Vegetarian. A reservation made is a reservation paid unless 48 hour notice is given.\n\n\n\n\n\n\n\nWeds. Apr. 5 11:30- 1:30 PM Republican Women of SWFL Federated Guest Speaker:  5111 Tamiami Tr. N Naples\, 34103 RSVP & Sign Up Click Here or email: speedyrsvp@gmail.com or call 239-431-5224
URL:https://cccvpac.org/event/rwsff-monthly-luncheon-2/
LOCATION:Naples Hilton\, 5111 Tamiami Trail North\, Naples\, FL\, 34103
CATEGORIES:Republican Club Events
END:VEVENT
BEGIN:VEVENT
DTSTART;TZID=America/New_York:20230411T190000
DTEND;TZID=America/New_York:20230411T190000
DTSTAMP:20260419T141905
CREATED:20230312T153341Z
LAST-MODIFIED:20230312T153341Z
UID:2273-1681239600-1681239600@cccvpac.org
SUMMARY:Ave Maria Patriots
DESCRIPTION:Ave Maria Patriots April Meeting \nGuest Speaker:\nCollier County Sheriff Rambosk \nTuesday\, April 11\, 2023\nTime: 7:00 PM\nLocation: The Bean of Ave Maria
URL:https://cccvpac.org/event/ave-maria-patriots-2/
LOCATION:The Bean at Ave Maria\, 550 Ave Maria Blvd\, Ave Maria\, FL\, 34142
CATEGORIES:Republican Club Events
ORGANIZER;CN="Ave Maria Patriots":MAILTO:nicolecsantaveri@yahoo.com
END:VEVENT
BEGIN:VEVENT
DTSTART;TZID=America/New_York:20230411T190000
DTEND;TZID=America/New_York:20230411T203000
DTSTAMP:20260419T141905
CREATED:20230325T135157Z
LAST-MODIFIED:20230325T135157Z
UID:2317-1681239600-1681245000@cccvpac.org
SUMMARY:Ave Maria Patriots - Sheriff Kevin Rambosk
DESCRIPTION:Guest Speaker:\nCollier County Sheriff Kevin Rambosk \nTuesday\, April 11\, 2023\nTime: 7:00 PM\nLocation: The Bean of Ave Maria\n5068 Annunciation Circle\, Ave Maria \n\n\n\n\n\n\n\n\n\n\nOur very own Collier County Sheriff Kevin Rambosk will be our guest speaker for our April 11th meeting. \nWant to know more about our Sheriff? Read his impressive bio here\, and remember to RSVP for the meeting.\n\n\n\n\n\n\n\n  \n\n\n\n\n\n\n\nRSVP for Sheriff Rambosk Here!
URL:https://cccvpac.org/event/ave-maria-patriots-sheriff-kevin-rambosk/
LOCATION:The Bean at Ave Maria\, 550 Ave Maria Blvd\, Ave Maria\, FL\, 34142
CATEGORIES:Republican Club Events
ORGANIZER;CN="Ave Maria Patriots":MAILTO:nicolecsantaveri@yahoo.com
END:VEVENT
BEGIN:VEVENT
DTSTART;TZID=America/New_York:20230414T073000
DTEND;TZID=America/New_York:20230414T090000
DTSTAMP:20260419T141905
CREATED:20230312T154148Z
LAST-MODIFIED:20230312T154241Z
UID:2276-1681457400-1681462800@cccvpac.org
SUMMARY:Republican Men's Club - William Federer - Best selling Author\, President of Amerisearch
DESCRIPTION:William J Federer \n\nJoin us April 14 at 7:30 am as we welcome William J Federer – a best selling author\, former congressman\, national speaker and President of Amerisearch\, Inc. \nReserve Your Space – Click Here\nBio: \nWILLIAM J. FEDERER is a nationally known speaker\, best-selling author\, and president of Amerisearch\, Inc.\, a publishing company dedicated to researching America’s noble heritage. \nBill’s AMERICAN MINUTE radio feature is broadcast daily across America and by the Internet. His Faith in History television airs on the TCT Network on stations across America and via DirectTV. \nTELEVISION: A former U.S. Congressional Candidate\, Bill has appeared on: CSPAN\, FOX\, Hannity\, O’Reilly Factor\, NPR\, NewsMax\, OAN\, Real America’s Voice\, Dr. Gina PrimeTime\, Bill O’Reilly’s Shock and Awe\, MSNBC\, CBN\, TBN\, INSP\, TCT\, The Eric Metaxas Show\, Prager U\, Todd Starnes “Starnes Country-FOX Nation\, 700 Club\, Coral Ridge Hour\, The Chris Salcedo Show\, Real America with Dan Ball\, AT&T Cable\, Charter Cable\, Danny Fontana Show\, iLife TV\, FOX Strategy Room with Brian Kilmeade\, hosted CSPAN’s George Washington Book Festival-February 26\, 2000\, ABC-Time Warner Affiliates\, FamilyNet\, FamilyLand TV\, CTN with Herman & Sharron Bailey\, Andrew Wommack’s The Gospel Truth\, and numerous television documentaries. \nRADIO: Bill has been interviewed on thousands of radio programs\, including Focus on the Family\, Janet Parshall’s America\, Point of View\, USA Radio Network\, Salem Radio Network\, Bott Radio Network\, Crosswalk with Gino Geraci\, Michael Medved\, Common Sense Radio w/Ollie North\, D. James Kennedy’s Truths that Transform\, Phyllis Schlafly Live\, Beverly LaHaye Live\, G. Gordon Liddy\, Janet Folger’s Faith to Action\, Clear Channel Radio\, VCY America\, RadioAmerica\, BQ\, Armstrong Williams\, American Family Radio\, Family Life Radio\, USA Radio Network\, Judicial Watch\, InsightMag.com\, Martha Zoller Show\, Chuck Harder’s For the People\, Derry Brownfield\, Michael Reagan and others. \nPUBLICATIONS: Bill has been quoted or referenced in USA Today\, Human Events\, New York Times\, Washington Times\, Washington Post\, Roll Call\, Harper’s Magazine\, The Wanderer\, George\, St. Louis Post Dispatch\, Fort Lauderdate Sun-Sentinel\, Ted Baehr’s MovieGuide\, England’s Surrey Hants Star\, Insight Magazine\, WorldMag.com\, WorldNetDaily.com\, TownHall.com\, NewsMax.com\, Catholic.org\, Crosswalk.org\, CitizenLink.com\, DailyCaller.com and other publications. \nBOOKS: Bill’s first book “America’s God and Country Encyclopedia of Quotations” has sold over a half-million copies. His works\, which have been quoted by authors\, politicians\, leaders\, journalists\, teachers\, students and in court cases\, include: \n\nAMERICA’S GOD AND COUNTRY ENCYCLOPEDIA OF QUOTATIONS\nAMERICAN MINUTE-Events of American Significance Remembered on the Date They Occurred\nAMERICAN QUOTATIONS CDROM\nBACKFIRED-A nation born for religious tolerance no longer tolerates religion\nCHANGE TO CHAINS-The 6000 year quest for control- Volume 1: Rise of the Republic\nENDANGERED SPEECHES-How the ACLU\, IRS & LBJ Threaten Extinction of Free Speech\nGEORGE WASHINGTON CARVER-His Life & Faith In His Own Words\nISLAMIC CONQUEST-PAST & PRESENT-A captivating 5-part DVD series on Political Islam’s 1400 year War with the West\nLIBRARY OF CLASSICS CDROM\nPRAYERS & PRESIDENTS-Inspiring Faith from Leaders of the Past\nSAINT PATRICK-The Real Story of His Amazing Life from Tragedy to Triumph\nTHE FAITH OF FDR –From Franklin D. Roosevelt’s Public Papers 1933-1945\nTHE INTERESTING HISTORY OF INCOME TAX\nTHE ORIGINAL 13-A Documentary History of Religion in America’s First Thirteen States\nTHE TEN COMMANDMENTS & their Influence on American Law\nTHE TREACHEROUS WORLD of the 16th Century & How the Pilgrims Escaped it\nTHERE REALLY IS A SANTA CLAUS-History of Saint Nicholas & Christmas Holiday Traditions\nTHREE SECULAR REASONS Why America Should be Under God\nTREASURY OF PRESIDENTIAL QUOTATIONS\nWHAT EVERY AMERICAN NEEDS TO KNOW ABOUT THE QUR’AN-A History of Islam & the U.S.\nWHO IS THE KING IN AMERICA? & Who are the Counselors to the King?-An Overview of 6\,000 years of History & Why America is Unique
URL:https://cccvpac.org/event/republican-mens-club-william-federer-best-selling-author-president-of-amerisearch/
LOCATION:Naples Hilton\, 5111 Tamiami Trail North\, Naples\, FL\, 34103
CATEGORIES:Republican Club Events
ORGANIZER;CN="The Right Men's Club of Collier County":MAILTO:info@mensclubcc.org
END:VEVENT
BEGIN:VEVENT
DTSTART;TZID=America/New_York:20230414T113000
DTEND;TZID=America/New_York:20230414T130000
DTSTAMP:20260419T141905
CREATED:20230314T124559Z
LAST-MODIFIED:20230314T124606Z
UID:2297-1681471800-1681477200@cccvpac.org
SUMMARY:Women's Republican Club Luncheon - Multiple Speakers
DESCRIPTION:Sheriff Rambosk has served as Collier County’s Sheriff since 2009. He embodies the philosophy of “service to others before self.” His office prides itself on being true partners in the community. They also believe that their service philosophy\, community partnerships and the hard work of his professional law enforcement team work together to keep Collier County one of the safest counties in Florida. \nSheriiff Rambosk’s education is vast including an AA degree in political science\, Bergen Community College\, Paramus\, NJ; BS degree\, public safety administration\, William Peterson University; MBA\, Nova University; FBI National Academy graduate 172nd Session\, 1993. \nAlina Donahue is a Human Trafficking Subject Matter Expert. She Co-created the Shelly Stayer Shelter’s 18-month Human Trafficking Residential Program for female survivors of sexual Human Trafficking. She has been certified by the Florida Crime Prevention Training Institute through the Office of the Florida General Attorney. \nAlina was a mentor for Project Recovery\, a program that helps inmates in Collier County overcome addiction. In 2021 she made the Naples Illustrated Top 100 to Watch For List for her continuous achievements. \nIn January 2023\, Alina was appointed as a Senior Advisor to the National Trauma Education Policy Board.
URL:https://cccvpac.org/event/womens-republican-club-luncheon-multiple-speakers/
LOCATION:Naples Hilton\, 5111 Tamiami Trail North\, Naples\, FL\, 34103
CATEGORIES:Republican Club Events
END:VEVENT
BEGIN:VEVENT
DTSTART;TZID=America/New_York:20230419T173000
DTEND;TZID=America/New_York:20230419T193000
DTSTAMP:20260419T141905
CREATED:20230312T154931Z
LAST-MODIFIED:20230312T154931Z
UID:2285-1681925400-1681932600@cccvpac.org
SUMMARY:RWSFF - W-3 Women Wine and Wisdom
DESCRIPTION:Weds. Apr. 19 5:00 PM W-3 Women Wine & Wisdom- Join us for Conversation and Wisdom! New meeting location CAVO Lounge 9108 Strada Pl. Naples- At Mercato. $10.00 Cash-Appetizers provided- Cash Bar for All Beverages.  RSVP: email  speedyrsvp@gmail.com or call 239-431-5224
URL:https://cccvpac.org/event/rwsff-w-3-women-wine-and-wisdom/
LOCATION:Cavo Restaurant and Lounge\, 9108 Strada Pl.\, Naples\, FL\, 34108
CATEGORIES:Republican Club Events
END:VEVENT
BEGIN:VEVENT
DTSTART;TZID=UTC:20230422T080000
DTEND;TZID=UTC:20230422T170000
DTSTAMP:20260419T141905
CREATED:20230422T154533Z
LAST-MODIFIED:20230422T154926Z
UID:2340-1682150400-1682182800@cccvpac.org
SUMMARY:Republican Men's Club - May Breakfast Meeting - We Did All That
DESCRIPTION:We Did All That\nLegacies of Mercury\, Gemini\, Apollo… and Where We Are Today \nRegister – Click Here\nDuring the 1960s and the early 1970s\, America’s manned space program was indeed a by-product of the Cold War. But it was much more than just a Cold War stunt.  It challenged the nation to perform beyond what many believed to be impossible. It gave the nation lofty goals\, a sense of profound accomplishment and a sense of purpose even though much of it took place during a time of great upheaval and war. \nThink of what could have been had the best of our manned space efforts not fallen before the pencils of bean counters and inauthentic leadership. \nAt a time when it is obvious our adversaries plan on using space not as a venue for peaceful exploration but as the next – and final – battlefield\, only authentic and competent leadership can once again make our manned space effort the top priority it should have been all along. \nProject Mercury \n\nOutline of Mercury missions completed between 1961 – 1963.\n\nProject Gemini \n\nOutline of Gemini missions completed between 1965 – 1966.\n\nProject Apollo \n\nOutline of Apollo missions completed between 1968 – 1972.\n\n  \nJohn P. Schreitmueller\, PCC-BC \nManaging Partner  \nJohn P. Schreitmueller\, PCC-BC (Professional Certified Coach – Board Certified) founded Resolute Consulting Group\, a concierge executive coaching practice\, in 2003. He has been in practice for 32 years. \nMr. Schreitmueller earned a BA degree (1975) at Southern Connecticut State University along with a commission as a United States Marine Corps officer through the Marine Corps Platoon Leaders Class program. He commanded an infantry rifle platoon overseas and flew missions in Marine Forward Air Control (FAC) aircraft. \nFollowing military service\, Mr. Schreitmueller advanced as an executive at Texas Instruments\, Inc.\, Beech Aircraft Corporation and American Airlines’ Sky Chefs\, where he led successful multi-national ventures and acquisitions in Europe. Prior to founding Resolute Consulting Group\, he served in top leadership roles in the executive coaching and consulting field as a Partner and Senior Vice President at Reedie & Company LLC\, and as a Partner/Practice Lead of the global search firm Ray & Berndtson. \nMr. Schreitmueller completed graduate studies (GC\, 1994) in marketing at the Edwin L. Cox School of Business at Southern Methodist University. He subsequently served as an adjunct faculty member at the Cox School\, where he taught Executive Career Management within the school’s MBA and EMBA curriculums. \nMr. Schreitmueller is also a graduate (2000) of the noted Program on Leadership for Senior Executives at Harvard University\, the John F. Kennedy School of Government. \nHe holds advanced credentialing as a Professional Certified Coach through the International Coach Federation (ICF)\, and is Board Certified with specialty practice competency designations in Executive Coaching\, Leadership Coaching and Career Coaching through the Center for Credentialing and Education (CCE). His practicum-oriented training spans executive behavior\, development\, career transition\, active retirement transition and divorce transition. \nMr. Schreitmueller holds an FAA Commercial Pilot’s license and has logged thousands of hours in high performance turbine aircraft.  His book\, Of Dreams and Astronauts\, a narrative on leadership and the Mercury\, Gemini and Apollo manned space programs\, won critical acclamation and the Aviation/Space Writers Association Award of Excellence for Nonfiction Journalism. \nHe is featured in print media\, on radio and television\, with guest appearances on CNN International\, XM Sixties at 6\, MSNBC\, and The NBC Evening News with Tom Brokaw.  \nMr. Schreitmueller is a member of the International Coach Federation\, The American Psychological Association\, The American Mental Health Counselors Association\, the Marine Corps Association\, the Aircraft Owners and Pilots Association\, the Harvard Club of Boston\, the International Churchill Society\, and he is an active polo player rated for competitive play by the United States Polo Association. He resides in Naples\, FL.
URL:https://cccvpac.org/event/republican-mens-club-may-breakfast-meeting-we-did-all-that/
LOCATION:Naples Hilton\, 5111 Tamiami Trail North\, Naples\, FL\, 34103
CATEGORIES:Republican Club Events
ORGANIZER;CN="The Right Men's Club of Collier County":MAILTO:info@mensclubcc.org
END:VEVENT
BEGIN:VEVENT
DTSTART;TZID=America/New_York:20230428T173000
DTEND;TZID=America/New_York:20230428T193000
DTSTAMP:20260419T141905
CREATED:20230412T205503Z
LAST-MODIFIED:20230412T205503Z
UID:2335-1682703000-1682710200@cccvpac.org
SUMMARY:Jennifer J Edwards Appreciation Party
DESCRIPTION:
URL:https://cccvpac.org/event/jennifer-j-edwards-appreciation-party/
LOCATION:Naples Hilton\, 5111 Tamiami Trail North\, Naples\, FL\, 34103
CATEGORIES:Republican Club Events
END:VEVENT
END:VCALENDAR